BEGIN:VCALENDAR
VERSION:2.0
PRODID:-//Small Business Milwaukee - ECPv6.15.19//NONSGML v1.0//EN
CALSCALE:GREGORIAN
METHOD:PUBLISH
X-WR-CALNAME:Small Business Milwaukee
X-ORIGINAL-URL:https://smallbizmke.com
X-WR-CALDESC:Events for Small Business Milwaukee
REFRESH-INTERVAL;VALUE=DURATION:PT1H
X-Robots-Tag:noindex
X-PUBLISHED-TTL:PT1H
BEGIN:VTIMEZONE
TZID:America/Chicago
BEGIN:DAYLIGHT
TZOFFSETFROM:-0600
TZOFFSETTO:-0500
TZNAME:CDT
DTSTART:20250309T080000
END:DAYLIGHT
BEGIN:STANDARD
TZOFFSETFROM:-0500
TZOFFSETTO:-0600
TZNAME:CST
DTSTART:20251102T070000
END:STANDARD
BEGIN:DAYLIGHT
TZOFFSETFROM:-0600
TZOFFSETTO:-0500
TZNAME:CDT
DTSTART:20260308T080000
END:DAYLIGHT
BEGIN:STANDARD
TZOFFSETFROM:-0500
TZOFFSETTO:-0600
TZNAME:CST
DTSTART:20261101T070000
END:STANDARD
BEGIN:DAYLIGHT
TZOFFSETFROM:-0600
TZOFFSETTO:-0500
TZNAME:CDT
DTSTART:20270314T080000
END:DAYLIGHT
BEGIN:STANDARD
TZOFFSETFROM:-0500
TZOFFSETTO:-0600
TZNAME:CST
DTSTART:20271107T070000
END:STANDARD
END:VTIMEZONE
BEGIN:VEVENT
DTSTART;TZID=America/Chicago:20260423T140000
DTEND;TZID=America/Chicago:20260423T150000
DTSTAMP:20260423T015100
CREATED:20260302T173915Z
LAST-MODIFIED:20260302T201858Z
UID:251111-1776952800-1776956400@smallbizmke.com
SUMMARY:Smallbizmke Think Tank | Thursday | April 23rd\, 2026
DESCRIPTION:Register: Click Here\nThursday afternoon Think Tank link is the same every Thursday. \n			\n			\n				\n				\n				\n				\n			\n				\n				\n				\n				\n				\n				\n				\n				\n				\n				\n				\n				\n				\n					\n				  \n					  \n					  \n					  \n						   Cowork with Creators (Fruition MKE) 1:00 pm - 3:00 pm
URL:https://smallbizmke.com/eventcalendar/smallbizmke-think-tank-thursday-april-23rd-2026/
LOCATION:zoom\, WI\, United States
CATEGORIES:Smallbizmke Think Tank Thursday Afternoon
ATTACH;FMTTYPE=image/png:https://smallbizmke.com/wp-content/uploads/2025/02/Smallbizmke-half-sheet-flyer.png
END:VEVENT
END:VCALENDAR