BEGIN:VCALENDAR
VERSION:2.0
PRODID:-//Small Business Milwaukee - ECPv6.15.19//NONSGML v1.0//EN
CALSCALE:GREGORIAN
METHOD:PUBLISH
X-WR-CALNAME:Small Business Milwaukee
X-ORIGINAL-URL:https://smallbizmke.com
X-WR-CALDESC:Events for Small Business Milwaukee
REFRESH-INTERVAL;VALUE=DURATION:PT1H
X-Robots-Tag:noindex
X-PUBLISHED-TTL:PT1H
BEGIN:VTIMEZONE
TZID:America/Chicago
BEGIN:DAYLIGHT
TZOFFSETFROM:-0600
TZOFFSETTO:-0500
TZNAME:CDT
DTSTART:20250309T080000
END:DAYLIGHT
BEGIN:STANDARD
TZOFFSETFROM:-0500
TZOFFSETTO:-0600
TZNAME:CST
DTSTART:20251102T070000
END:STANDARD
BEGIN:DAYLIGHT
TZOFFSETFROM:-0600
TZOFFSETTO:-0500
TZNAME:CDT
DTSTART:20260308T080000
END:DAYLIGHT
BEGIN:STANDARD
TZOFFSETFROM:-0500
TZOFFSETTO:-0600
TZNAME:CST
DTSTART:20261101T070000
END:STANDARD
BEGIN:DAYLIGHT
TZOFFSETFROM:-0600
TZOFFSETTO:-0500
TZNAME:CDT
DTSTART:20270314T080000
END:DAYLIGHT
BEGIN:STANDARD
TZOFFSETFROM:-0500
TZOFFSETTO:-0600
TZNAME:CST
DTSTART:20271107T070000
END:STANDARD
END:VTIMEZONE
BEGIN:VEVENT
DTSTART;TZID=America/Chicago:20260311T113000
DTEND;TZID=America/Chicago:20260311T130000
DTSTAMP:20260420T135722
CREATED:20251208T175352Z
LAST-MODIFIED:20251208T175352Z
UID:249358-1773228600-1773234000@smallbizmke.com
SUMMARY:Boost\, Brand and Build: Merging SEO\, Social Media\, and AI for Growth
DESCRIPTION:Join Positive Polarity for a free education and networking event. This month’s topic: SEO\, social media and AI. Includes free lunch! \nIn this panel\, industry experts dive into how the powerful combination of SEO\, marketing\, AI and social media can accelerate your business growth. You’ll discover proven strategies to align these channels for greater visibility\, engagement\, and conversions. Whether you’re looking to refine your digital approach or build a fully integrated strategy\, this session offers actionable insights to unlock your brand’s full potential. \n**Please note our new location: UW Credit Union in New Berlin!
URL:https://smallbizmke.com/eventcalendar/boost-brand-and-build-merging-seo-social-media-and-ai-for-growth/
LOCATION:UW Credit Union New Berlin\, 4850 S Moorland Road\, New Berlin\, 53151\, United States
CATEGORIES:Small Business Event
ATTACH;FMTTYPE=image/png:https://smallbizmke.com/wp-content/uploads/2025/12/March.png
ORGANIZER;CN="Positive Polarity":MAILTO:dana@positivepolarity.com
END:VEVENT
END:VCALENDAR