BEGIN:VCALENDAR
VERSION:2.0
PRODID:-//Small Business Milwaukee - ECPv6.15.19//NONSGML v1.0//EN
CALSCALE:GREGORIAN
METHOD:PUBLISH
X-ORIGINAL-URL:https://smallbizmke.com
X-WR-CALDESC:Events for Small Business Milwaukee
REFRESH-INTERVAL;VALUE=DURATION:PT1H
X-Robots-Tag:noindex
X-PUBLISHED-TTL:PT1H
BEGIN:VTIMEZONE
TZID:America/Chicago
BEGIN:DAYLIGHT
TZOFFSETFROM:-0600
TZOFFSETTO:-0500
TZNAME:CDT
DTSTART:20250309T080000
END:DAYLIGHT
BEGIN:STANDARD
TZOFFSETFROM:-0500
TZOFFSETTO:-0600
TZNAME:CST
DTSTART:20251102T070000
END:STANDARD
BEGIN:DAYLIGHT
TZOFFSETFROM:-0600
TZOFFSETTO:-0500
TZNAME:CDT
DTSTART:20260308T080000
END:DAYLIGHT
BEGIN:STANDARD
TZOFFSETFROM:-0500
TZOFFSETTO:-0600
TZNAME:CST
DTSTART:20261101T070000
END:STANDARD
BEGIN:DAYLIGHT
TZOFFSETFROM:-0600
TZOFFSETTO:-0500
TZNAME:CDT
DTSTART:20270314T080000
END:DAYLIGHT
BEGIN:STANDARD
TZOFFSETFROM:-0500
TZOFFSETTO:-0600
TZNAME:CST
DTSTART:20271107T070000
END:STANDARD
END:VTIMEZONE
BEGIN:VEVENT
DTSTART;TZID=America/Chicago:20260312T110000
DTEND;TZID=America/Chicago:20260312T160000
DTSTAMP:20260420T120832
CREATED:20260212T015447Z
LAST-MODIFIED:20260212T015447Z
UID:250651-1773313200-1773331200@smallbizmke.com
SUMMARY:WIN - Women in NARI
DESCRIPTION:Empowering & Celebrating Women’s Health and Wellness Within the Trades \nWIN (Women in NARI) is more than an event — it’s a community. \nOn Thursday\, March 12th\, that community comes together at The Deco in West Allis for a powerful\, energizing experience designed to celebrate\, support\, and elevate women in the trades. \nThis immersive day brings together industry leaders\, wellness experts\, and passionate professionals for conversations that matter. From inspiring speaker sessions and real conversations around women’s health and safety to engaging activities and intentional networking\, every moment of WIN is designed to help you grow — personally and professionally. \nExpect: \nDynamic\, industry-leading speakers\nMeaningful discussions centered on women’s health and wellness\nEngaging\, interactive experiences\nIncredible food and hospitality\nIntentional networking with women who truly understand the industry\nWhether you’re a seasoned professional\, new to the trades\, a business owner\, or exploring NARI membership\, WIN is designed to leave you motivated\, connected\, and ready to thrive. \nThis isn’t just another industry event.\nIt’s a space to feel supported.\nIt’s a place to build lasting relationships.\nIt’s a day to invest in yourself and your future. \n🎟 Tickets are on sale now.\nBring your team. Bring a colleague. Bring a friend.\nExperience what makes WIN so powerful.
URL:https://smallbizmke.com/eventcalendar/win-women-in-nari/
CATEGORIES:Small Business Event
ATTACH;FMTTYPE=image/png:https://smallbizmke.com/wp-content/uploads/2026/02/Women-in-NARI.png
END:VEVENT
END:VCALENDAR