BEGIN:VCALENDAR
VERSION:2.0
PRODID:-//Small Business Milwaukee - ECPv6.15.19//NONSGML v1.0//EN
CALSCALE:GREGORIAN
METHOD:PUBLISH
X-ORIGINAL-URL:https://smallbizmke.com
X-WR-CALDESC:Events for Small Business Milwaukee
REFRESH-INTERVAL;VALUE=DURATION:PT1H
X-Robots-Tag:noindex
X-PUBLISHED-TTL:PT1H
BEGIN:VTIMEZONE
TZID:America/Chicago
BEGIN:DAYLIGHT
TZOFFSETFROM:-0600
TZOFFSETTO:-0500
TZNAME:CDT
DTSTART:20250309T080000
END:DAYLIGHT
BEGIN:STANDARD
TZOFFSETFROM:-0500
TZOFFSETTO:-0600
TZNAME:CST
DTSTART:20251102T070000
END:STANDARD
BEGIN:DAYLIGHT
TZOFFSETFROM:-0600
TZOFFSETTO:-0500
TZNAME:CDT
DTSTART:20260308T080000
END:DAYLIGHT
BEGIN:STANDARD
TZOFFSETFROM:-0500
TZOFFSETTO:-0600
TZNAME:CST
DTSTART:20261101T070000
END:STANDARD
BEGIN:DAYLIGHT
TZOFFSETFROM:-0600
TZOFFSETTO:-0500
TZNAME:CDT
DTSTART:20270314T080000
END:DAYLIGHT
BEGIN:STANDARD
TZOFFSETFROM:-0500
TZOFFSETTO:-0600
TZNAME:CST
DTSTART:20271107T070000
END:STANDARD
END:VTIMEZONE
BEGIN:VEVENT
DTSTART;TZID=America/Chicago:20261021T113000
DTEND;TZID=America/Chicago:20261021T130000
DTSTAMP:20260420T155619
CREATED:20251208T174900Z
LAST-MODIFIED:20251208T174900Z
UID:249394-1792582200-1792587600@smallbizmke.com
SUMMARY:Vision Led Leadership: Creating a Clear and Contagious Direction for Your Team
DESCRIPTION:Join Positive Polarity for a free education and networking event. This month’s topic: vision led leadership. Includes free lunch! \nYou know your vision\, but does everyone else around you? In this session\, we will talk about the importance of sharing your vision – whether it be for your company\, your department\, or even a project\, sharing the vision with those who will be a part of it is crucial. You will learn how to get unstuck and propel your plan forward through alignment\, vision casting\, and strategic communication. With special guest speaker Morgan Schnabl. Let’s Grow!
URL:https://smallbizmke.com/eventcalendar/vision-led-leadership-creating-a-clear-and-contagious-direction-for-your-team/
LOCATION:UW Credit Union New Berlin\, 4850 S Moorland Road\, New Berlin\, 53151\, United States
CATEGORIES:Small Business Event
ATTACH;FMTTYPE=image/png:https://smallbizmke.com/wp-content/uploads/2025/12/Ocotber.png
ORGANIZER;CN="Positive Polarity":MAILTO:dana@positivepolarity.com
END:VEVENT
END:VCALENDAR