BEGIN:VCALENDAR
VERSION:2.0
PRODID:-//Small Business Milwaukee - ECPv6.15.19//NONSGML v1.0//EN
CALSCALE:GREGORIAN
METHOD:PUBLISH
X-WR-CALNAME:Small Business Milwaukee
X-ORIGINAL-URL:https://smallbizmke.com
X-WR-CALDESC:Events for Small Business Milwaukee
REFRESH-INTERVAL;VALUE=DURATION:PT1H
X-Robots-Tag:noindex
X-PUBLISHED-TTL:PT1H
BEGIN:VTIMEZONE
TZID:America/Chicago
BEGIN:DAYLIGHT
TZOFFSETFROM:-0600
TZOFFSETTO:-0500
TZNAME:CDT
DTSTART:20250309T080000
END:DAYLIGHT
BEGIN:STANDARD
TZOFFSETFROM:-0500
TZOFFSETTO:-0600
TZNAME:CST
DTSTART:20251102T070000
END:STANDARD
BEGIN:DAYLIGHT
TZOFFSETFROM:-0600
TZOFFSETTO:-0500
TZNAME:CDT
DTSTART:20260308T080000
END:DAYLIGHT
BEGIN:STANDARD
TZOFFSETFROM:-0500
TZOFFSETTO:-0600
TZNAME:CST
DTSTART:20261101T070000
END:STANDARD
BEGIN:DAYLIGHT
TZOFFSETFROM:-0600
TZOFFSETTO:-0500
TZNAME:CDT
DTSTART:20270314T080000
END:DAYLIGHT
BEGIN:STANDARD
TZOFFSETFROM:-0500
TZOFFSETTO:-0600
TZNAME:CST
DTSTART:20271107T070000
END:STANDARD
END:VTIMEZONE
BEGIN:VEVENT
DTSTART;TZID=America/Chicago:20260604T140000
DTEND;TZID=America/Chicago:20260604T150000
DTSTAMP:20260422T201130
CREATED:20260303T184458Z
LAST-MODIFIED:20260303T184504Z
UID:251189-1780581600-1780585200@smallbizmke.com
SUMMARY:Smallbizmke Think Tank | Thursday | June 4th\, 2026
DESCRIPTION:Register: Click Here\nThursday afternoon Think Tank link is the same every Thursday. \n			\n			\n				\n				\n				\n				\n			\n				\n				\n				\n				\n				\n				\n				\n				\n				\n				\n				\n				\n				\n					\n				  \n					  \n					  \n					  \n						   Smallbizmke Think Tank | Thursday | May 21st\, 2026 2:00 pm - 3:00 pm
URL:https://smallbizmke.com/eventcalendar/smallbizmke-think-tank-thursday-june-4th-2026/
LOCATION:zoom\, WI\, United States
CATEGORIES:Smallbizmke Think Tank Thursday Afternoon
ATTACH;FMTTYPE=image/png:https://smallbizmke.com/wp-content/uploads/2025/02/Smallbizmke-half-sheet-flyer.png
END:VEVENT
BEGIN:VEVENT
DTSTART;TZID=America/Chicago:20260611T140000
DTEND;TZID=America/Chicago:20260611T150000
DTSTAMP:20260422T201130
CREATED:20260303T191519Z
LAST-MODIFIED:20260303T191524Z
UID:251192-1781186400-1781190000@smallbizmke.com
SUMMARY:Smallbizmke Think Tank | Thursday | June 11th\, 2026
DESCRIPTION:Register: Click Here\nThursday afternoon Think Tank link is the same every Thursday. \n			\n			\n				\n				\n				\n				\n			\n				\n				\n				\n				\n				\n				\n				\n				\n				\n				\n				\n				\n				\n					\n				  \n					  \n					  \n					  \n						   Smallbizmke Think Tank | Thursday | May 21st\, 2026 2:00 pm - 3:00 pm
URL:https://smallbizmke.com/eventcalendar/smallbizmke-think-tank-thursday-june-11th-2026/
LOCATION:zoom\, WI\, United States
CATEGORIES:Smallbizmke Think Tank Thursday Afternoon
ATTACH;FMTTYPE=image/png:https://smallbizmke.com/wp-content/uploads/2025/02/Smallbizmke-half-sheet-flyer.png
END:VEVENT
BEGIN:VEVENT
DTSTART;TZID=America/Chicago:20260618T140000
DTEND;TZID=America/Chicago:20260618T150000
DTSTAMP:20260422T201130
CREATED:20260303T191704Z
LAST-MODIFIED:20260303T191710Z
UID:251195-1781791200-1781794800@smallbizmke.com
SUMMARY:Smallbizmke Think Tank | Thursday | June 18th\, 2026
DESCRIPTION:Register: Click Here\nThursday afternoon Think Tank link is the same every Thursday. \n			\n			\n				\n				\n				\n				\n			\n				\n				\n				\n				\n				\n				\n				\n				\n				\n				\n				\n				\n				\n					\n				  \n					  \n					  \n					  \n						   Smallbizmke Think Tank | Thursday | May 21st\, 2026 2:00 pm - 3:00 pm
URL:https://smallbizmke.com/eventcalendar/smallbizmke-think-tank-thursday-june-18th-2026/
LOCATION:zoom\, WI\, United States
CATEGORIES:Smallbizmke Think Tank Thursday Afternoon
ATTACH;FMTTYPE=image/png:https://smallbizmke.com/wp-content/uploads/2025/02/Smallbizmke-half-sheet-flyer.png
END:VEVENT
BEGIN:VEVENT
DTSTART;TZID=America/Chicago:20260625T140000
DTEND;TZID=America/Chicago:20260625T150000
DTSTAMP:20260422T201130
CREATED:20260303T192301Z
LAST-MODIFIED:20260303T192307Z
UID:251198-1782396000-1782399600@smallbizmke.com
SUMMARY:Smallbizmke Think Tank | Thursday | June 25th\, 2026
DESCRIPTION:Register: Click Here\nThursday afternoon Think Tank link is the same every Thursday. \n			\n			\n				\n				\n				\n				\n			\n				\n				\n				\n				\n				\n				\n				\n				\n				\n				\n				\n				\n				\n					\n				  \n					  \n					  \n					  \n						   Smallbizmke Think Tank | Thursday | May 21st\, 2026 2:00 pm - 3:00 pm
URL:https://smallbizmke.com/eventcalendar/smallbizmke-think-tank-thursday-june-25th-2026/
LOCATION:zoom\, WI\, United States
CATEGORIES:Smallbizmke Think Tank Thursday Afternoon
ATTACH;FMTTYPE=image/png:https://smallbizmke.com/wp-content/uploads/2025/02/Smallbizmke-half-sheet-flyer.png
END:VEVENT
END:VCALENDAR